BEGIN:VCALENDAR
VERSION:2.0
PRODID:-//NBS//eStore//2026 Walker: Celebrate America: Wreath Edition (Tuesday, May 19th) 5:30pm - 7:30pm
CALSCALE:GREGORIAN
METHOD:PUBLISH
BEGIN:VEVENT
DTSTART:20260519T173000
DTEND:20260519T193000
SUMMARY:2026 Walker: Celebrate America: Wreath Edition (Tuesday, May 19th) 5:30pm - 7:30pm
LOCATION:9261 Florida Blvd , Walker, LA, 70785
DESCRIPTION:Get ready to celebrate in style as we create a beautiful 18-inch patriotic wreath in honor of the United States' 250th anniversary! In this hands-on class, you'll design and craft your own festive wreath using red, white and blue burlap ribbon. Perfect for beginners and seasoned crafters alike, this class will guide you step-by-step to create a stunning piece that's perfect for your front door.  Patriotic burlap wreath can be used for 4th of July, Memorial Day, and Veterans Day.
PRIORITY:3
END:VEVENT
END:VCALENDAR
