BEGIN:VCALENDAR
VERSION:2.0
PRODID:-//NBS//eStore//2026 May ACT Prep (Tuesday, May 26th 5:00pm - 7:00pm, Thursday, May 28th 5:00pm - 7:30pm)
CALSCALE:GREGORIAN
METHOD:PUBLISH
BEGIN:VEVENT
DTSTART:20260526T170000
DTEND:20260528T193000
SUMMARY:2026 May ACT Prep (Tuesday, May 26th 5:00pm - 7:00pm, Thursday, May 28th 5:00pm - 7:30pm)
LOCATION:9261 Florida Blvd , Walker, LA, 70785
DESCRIPTION:U-Prep Test Prep (Aimee Urdiales, instructor) is pleased to propose a two-session, in-person ACT Prep Workshop designed to equip high school students with essential strategies, content knowledge, and practical experience to succeed on the ACT. This program is structured to build confidence, improve performance, and reduce test anxiety through expert instruction and guided practice.
PRIORITY:3
END:VEVENT
END:VCALENDAR
