BEGIN:VCALENDAR
VERSION:2.0
PRODID:-//NBS//eStore//2026 Intermediate Mahjong Walker (Monday, Apr. 27th, Wednesday Apr. 29th) 5:30pm - 7:30pm
CALSCALE:GREGORIAN
METHOD:PUBLISH
BEGIN:VEVENT
DTSTART:20260427T173000
DTEND:20260429T193000
SUMMARY:2026 Intermediate Mahjong Walker (Monday, Apr. 27th, Wednesday Apr. 29th) 5:30pm - 7:30pm
LOCATION:9261 Florida Blvd , Walker, LA, 70785
DESCRIPTION:Level up your Mahjong game. Spend time in an intermediate mahjong class  with guided play and focusing on strategy, hand development, and reading the table more effectively. Learn how to recognize patterns and make smarter decisions instead of relying on luck. Still a challenge, but each session builds more confidence and consistency. 
PRIORITY:3
END:VEVENT
END:VCALENDAR
