BEGIN:VCALENDAR
VERSION:2.0
PRODID:-//NBS//eStore//2026 Mint Juleps & Masterpieces: "A Night of Herbal Delights" (Thursday, May 14th) 6:00 pm - 7:30 pm
CALSCALE:GREGORIAN
METHOD:PUBLISH
BEGIN:VEVENT
DTSTART:20260514T180000
DTEND:20260514T193000
SUMMARY:2026 Mint Juleps & Masterpieces: "A Night of Herbal Delights" (Thursday, May 14th) 6:00 pm - 7:30 pm
LOCATION:9261 Florida Blvd , Walker, LA, 70785
DESCRIPTION:Join us for a refreshin’ good time as we dive into the wonderful world of Mint and Herbs! In this hands-on class, we’ll explore the flavors and benefits of mint and other herbs and get creative with recipes and drinks that’ll make your taste buds dance. Think of mojitos, teas, butters, and dishes that bring your guest a wonderful experience. 
PRIORITY:3
END:VEVENT
END:VCALENDAR
